BEGIN:VCALENDAR
VERSION:2.0
PRODID:-//Plone.org//NONSGML plone.app.event//EN
X-WR-TIMEZONE:Europe/Vienna
BEGIN:VEVENT
SUMMARY:Termine 2020
DTSTART;TZID=Europe/Vienna;VALUE=DATE-TIME:20200307T110000
DTEND;TZID=Europe/Vienna;VALUE=DATE-TIME:20200307T120000
DTSTAMP;VALUE=DATE-TIME:20260421T131921Z
UID:98ba7d27a0d142a796f08dd1ac506095
CONTACT:Mag.rer.nat Marcus Zuba\, 0676 4260650\, office@marcuszuba.at
CREATED;VALUE=DATE-TIME:20200104T162232Z
DESCRIPTION:Waldschule Marcus im Naturpark Jauerling-Wachau
LAST-MODIFIED;VALUE=DATE-TIME:20210102T072116Z
LOCATION:Naturpark Jauerling-Wachau • Treffpunkt: Parkplatz Naturparkgas
 thaus – Oberndorf am Jauerling
URL:https://www.marcuszuba.at/kalender/termine-2020
END:VEVENT
BEGIN:VTIMEZONE
TZID:Europe/Vienna
X-LIC-LOCATION:Europe/Vienna
BEGIN:STANDARD
DTSTART;VALUE=DATE-TIME:20191027T020000
TZNAME:CET
TZOFFSETFROM:+0200
TZOFFSETTO:+0100
END:STANDARD
END:VTIMEZONE
END:VCALENDAR
