BEGIN:VCALENDAR
VERSION:2.0
PRODID:-//Plone.org//NONSGML plone.app.event//EN
X-WR-TIMEZONE:Europe/Vienna
BEGIN:VEVENT
SUMMARY:Luchs & Wildkatze
DTSTART;TZID=Europe/Vienna;VALUE=DATE-TIME:20220528T110000
DTEND;TZID=Europe/Vienna;VALUE=DATE-TIME:20220528T130000
DTSTAMP;VALUE=DATE-TIME:20260421T132832Z
UID:e12e17e2290a40dd979c91e8c57d414c
CONTACT:Mag. Marcus B. Zuba\, 0676 42 60 650\, office@marcuszuba.at
CREATED;VALUE=DATE-TIME:20220201T112651Z
DESCRIPTION:Wald und Wiese
LAST-MODIFIED;VALUE=DATE-TIME:20220201T112932Z
LOCATION:Naturpark Jauerling-Wachau • P • Naturparkgasthaus • 3620 O
 berndorf am Jauerling
URL:https://www.marcuszuba.at/kalender/luchs-wildkatze
END:VEVENT
BEGIN:VTIMEZONE
TZID:Europe/Vienna
X-LIC-LOCATION:Europe/Vienna
BEGIN:DAYLIGHT
DTSTART;VALUE=DATE-TIME:20220327T030000
TZNAME:CEST
TZOFFSETFROM:+0100
TZOFFSETTO:+0200
END:DAYLIGHT
END:VTIMEZONE
END:VCALENDAR
