BEGIN:VCALENDAR
VERSION:2.0
PRODID:-//Plone.org//NONSGML plone.app.event//EN
X-WR-TIMEZONE:Europe/Vienna
BEGIN:VEVENT
SUMMARY:Der Wolf
DTSTART;TZID=Europe/Vienna;VALUE=DATE-TIME:20220507T110000
DTEND;TZID=Europe/Vienna;VALUE=DATE-TIME:20220507T140000
DTSTAMP;VALUE=DATE-TIME:20260421T133132Z
UID:c1030c3dca00435e977fb631f37209f2
CONTACT:Mag. Marcus B. Zuba\, 0676 42 60 650\, office@marcuszuba.at
CREATED;VALUE=DATE-TIME:20220131T163934Z
DESCRIPTION:in Niederösterreich und die Waldschule
LAST-MODIFIED;VALUE=DATE-TIME:20220131T164116Z
LOCATION:Naturpark Jauerling-Wachau • P • Naturparkgasthaus • 3620 O
 berndorf am Jauerling
URL:https://www.marcuszuba.at/kalender/der-wolf
END:VEVENT
BEGIN:VTIMEZONE
TZID:Europe/Vienna
X-LIC-LOCATION:Europe/Vienna
BEGIN:DAYLIGHT
DTSTART;VALUE=DATE-TIME:20220327T030000
TZNAME:CEST
TZOFFSETFROM:+0100
TZOFFSETTO:+0200
END:DAYLIGHT
END:VTIMEZONE
END:VCALENDAR
