BEGIN:VCALENDAR
VERSION:2.0
PRODID:-//Plone.org//NONSGML plone.app.event//EN
X-WR-TIMEZONE:Europe/Vienna
BEGIN:VEVENT
SUMMARY:Glühwürmchenwanderung um die Sonnenwende
DTSTART;TZID=Europe/Vienna;VALUE=DATE-TIME:20200620T190000
DTEND;TZID=Europe/Vienna;VALUE=DATE-TIME:20200620T220000
DTSTAMP;VALUE=DATE-TIME:20260421T133537Z
UID:8468bf5c97d84f67ae38867cba424efa
CONTACT:Mag. Marcus Zuba\, +43(0)676/4260650\, office@marcuszuba.at\, http
 ://www.naturpark-jauerling.at/
CREATED;VALUE=DATE-TIME:20190613T210400Z
DESCRIPTION:Zauber um die Waldschule 2020
LAST-MODIFIED;VALUE=DATE-TIME:20200204T190242Z
LOCATION:Waldschule Marcus • 3620 Oberndorf am Jauerling
URL:https://www.marcuszuba.at/kalender/copy_of_gluehwuermchenabend-1
END:VEVENT
BEGIN:VTIMEZONE
TZID:Europe/Vienna
X-LIC-LOCATION:Europe/Vienna
BEGIN:DAYLIGHT
DTSTART;VALUE=DATE-TIME:20200329T030000
TZNAME:CEST
TZOFFSETFROM:+0100
TZOFFSETTO:+0200
END:DAYLIGHT
END:VTIMEZONE
END:VCALENDAR
