BEGIN:VCALENDAR
VERSION:2.0
PRODID:-//Plone.org//NONSGML plone.app.event//EN
X-WR-TIMEZONE:Europe/Vienna
BEGIN:VEVENT
SUMMARY:Frühling im Hagenbrunner Wald 2020
DTSTART;TZID=Europe/Vienna;VALUE=DATE-TIME:20200418T100000
DTEND;TZID=Europe/Vienna;VALUE=DATE-TIME:20200418T120000
DTSTAMP;VALUE=DATE-TIME:20260421T133334Z
UID:241f9a15b086470081e0bb547f6d95ac
CONTACT:Marcus Zuba\, 0676 42 60 650\, office@marcuszuba.at\, http://www.h
 agenbrunn.at
CREATED;VALUE=DATE-TIME:20180324T193531Z
DESCRIPTION:Für ALLE Waldforscher und Naturliebhaber!
LAST-MODIFIED;VALUE=DATE-TIME:20200204T135335Z
LOCATION:Hagenbrunner Wald - Stützpunkt der Naturwacht - Stammersdorferst
 raße
URL:https://www.marcuszuba.at/kalender/copy_of_fruehling-im-hagenbrunner-w
 ald-2018
END:VEVENT
BEGIN:VTIMEZONE
TZID:Europe/Vienna
X-LIC-LOCATION:Europe/Vienna
BEGIN:DAYLIGHT
DTSTART;VALUE=DATE-TIME:20200329T030000
TZNAME:CEST
TZOFFSETFROM:+0100
TZOFFSETTO:+0200
END:DAYLIGHT
END:VTIMEZONE
END:VCALENDAR
