BEGIN:VCALENDAR
VERSION:2.0
PRODID:-//Plone.org//NONSGML plone.app.event//EN
X-WR-TIMEZONE:Europe/Vienna
BEGIN:VEVENT
SUMMARY:Abenteuer Wald 2020
DTSTART;TZID=Europe/Vienna;VALUE=DATE-TIME:20200725T110000
DTEND;TZID=Europe/Vienna;VALUE=DATE-TIME:20200725T130000
DTSTAMP;VALUE=DATE-TIME:20260421T133612Z
UID:f5f57287d99a4b038c0356b002ee3d49
CONTACT:Mag. Marcus Zuba\, 0676 42 60 650\, marcus.zuba@chello.at\, http:/
 /www.naturpark-jauerling.at/th_event/abenteuer-wald/
CREATED;VALUE=DATE-TIME:20180706T121738Z
DESCRIPTION:Wunder um die Waldschule marcus
LAST-MODIFIED;VALUE=DATE-TIME:20200205T215718Z
LOCATION:Naturpark Jauerling-Wachau / waldschule marcus
URL:https://www.marcuszuba.at/kalender/copy_of_abenteuer-wald
END:VEVENT
BEGIN:VTIMEZONE
TZID:Europe/Vienna
X-LIC-LOCATION:Europe/Vienna
BEGIN:DAYLIGHT
DTSTART;VALUE=DATE-TIME:20200329T030000
TZNAME:CEST
TZOFFSETFROM:+0100
TZOFFSETTO:+0200
END:DAYLIGHT
END:VTIMEZONE
END:VCALENDAR
