BEGIN:VCALENDAR
VERSION:2.0
PRODID:-//Plone.org//NONSGML plone.app.event//EN
X-WR-TIMEZONE:Europe/Vienna
BEGIN:VEVENT
SUMMARY:Der Grauwolf in NÖ und die Waldschule
DTSTART;TZID=Europe/Vienna;VALUE=DATE-TIME:20210424T110000
DTEND;TZID=Europe/Vienna;VALUE=DATE-TIME:20210424T140000
DTSTAMP;VALUE=DATE-TIME:20260421T132832Z
UID:a49453269ec14ab5accc3c23a201846c
CONTACT:Mag.rer.nat. Marcus Bernhard Zuba\, 06764260650\, office@marcuszub
 a.at\, http://www.naturpark-jauerling.at
CREATED;VALUE=DATE-TIME:20191029T195224Z
DESCRIPTION:Die >besondere Bildungseinrichtung< im Naturpark Jauerling-Wac
 hau
LAST-MODIFIED;VALUE=DATE-TIME:20210107T094603Z
LOCATION:Naturpark Jauerling-Wachau  Treffpunkt: Parkplatz Naturparkgastha
 us • Oberndorf am Jauerling
URL:https://www.marcuszuba.at/kalender/copy7_of_auf-spurensuche-mit-dem-wi
 ldbiologen
END:VEVENT
BEGIN:VTIMEZONE
TZID:Europe/Vienna
X-LIC-LOCATION:Europe/Vienna
BEGIN:DAYLIGHT
DTSTART;VALUE=DATE-TIME:20210328T030000
TZNAME:CEST
TZOFFSETFROM:+0100
TZOFFSETTO:+0200
END:DAYLIGHT
END:VTIMEZONE
END:VCALENDAR
