BEGIN:VCALENDAR
VERSION:2.0
PRODID:-//Plone.org//NONSGML plone.app.event//EN
X-WR-TIMEZONE:Europe/Vienna
BEGIN:VEVENT
SUMMARY:Waldpädagogik im Schlosspark Laxenburg 2021
DTSTART;TZID=Europe/Vienna;VALUE=DATE-TIME:20211017T110000
DTEND;TZID=Europe/Vienna;VALUE=DATE-TIME:20211017T120000
DTSTAMP;VALUE=DATE-TIME:20260421T133449Z
UID:dbd8086d447b47d68f4cab719094ff72
CONTACT:Mag.Marcus Zuba\, 0676 42 60 650\, office@marcuszuba.at\, http://w
 ww.schloss-laxenburg.at
CREATED;VALUE=DATE-TIME:20161223T150243Z
DESCRIPTION:Waldpädagogik für ALLE die ABENTEUER suchen
LAST-MODIFIED;VALUE=DATE-TIME:20210107T124726Z
LOCATION:Schlosspark Laxenburg - P1 Kasse - Haupteingang
URL:https://www.marcuszuba.at/kalender/copy3_of_waldpaedagogik-fuer-famili
 en-und-erwachsene-1
END:VEVENT
BEGIN:VTIMEZONE
TZID:Europe/Vienna
X-LIC-LOCATION:Europe/Vienna
BEGIN:DAYLIGHT
DTSTART;VALUE=DATE-TIME:20210328T030000
TZNAME:CEST
TZOFFSETFROM:+0100
TZOFFSETTO:+0200
END:DAYLIGHT
END:VTIMEZONE
END:VCALENDAR
