BEGIN:VCALENDAR
VERSION:2.0
PRODID:-//Plone.org//NONSGML plone.app.event//EN
X-WR-TIMEZONE:Europe/Vienna
BEGIN:VEVENT
SUMMARY:Naturpark Jauerling-Wachau • Programme 2021
DTSTART;TZID=Europe/Vienna;VALUE=DATE-TIME:20210101T110000
DTEND;TZID=Europe/Vienna;VALUE=DATE-TIME:20210101T153000
DTSTAMP;VALUE=DATE-TIME:20260421T172106Z
UID:e67593fa6f964ef2b7013e7b4596caad
CONTACT:Mag. Marcus Zuba\, 0676 42 60 650\, marcus.zuba@chello.at\, http:/
 /www.naturpark-jauerling.at
CREATED;VALUE=DATE-TIME:20180719T151519Z
DESCRIPTION:Waldschule Marcus
LAST-MODIFIED;VALUE=DATE-TIME:20210103T082445Z
LOCATION:Oberndorf am Jauerling • Parkplatz Naturparkgasthaus • P 1
URL:https://www.marcuszuba.at/kalender/copy3_of_schnitzen-und-gestalten
END:VEVENT
BEGIN:VTIMEZONE
TZID:Europe/Vienna
X-LIC-LOCATION:Europe/Vienna
BEGIN:STANDARD
DTSTART;VALUE=DATE-TIME:20201025T020000
TZNAME:CET
TZOFFSETFROM:+0200
TZOFFSETTO:+0100
END:STANDARD
END:VTIMEZONE
END:VCALENDAR
