BEGIN:VCALENDAR
VERSION:2.0
PRODID:-//Plone.org//NONSGML plone.app.event//EN
X-WR-TIMEZONE:Europe/Vienna
BEGIN:VEVENT
SUMMARY:Auf Spurensuche mit dem Wildbiologen
DTSTART;TZID=Europe/Vienna;VALUE=DATE-TIME:20220129T110000
DTEND;TZID=Europe/Vienna;VALUE=DATE-TIME:20220129T133000
DTSTAMP;VALUE=DATE-TIME:20260421T132958Z
UID:3fbb918c44534a2b88e2c6acb4f2074e
CONTACT:Mag.rer.nat. Marcus Bernhard Zuba\, 06764260650\, office@marcuszub
 a.at\, http://www.naturpark-jauerling.at
CREATED;VALUE=DATE-TIME:20191029T195224Z
DESCRIPTION:Waldschule Marcus im Naturpark Jauerling-Wachau
LAST-MODIFIED;VALUE=DATE-TIME:20220127T190918Z
LOCATION:Naturpark Jauerling-Wachau  Treffpunkt: Parkplatz Naturparkgastha
 us • Oberndorf am Jauerling
URL:https://www.marcuszuba.at/kalender/copy3_of_auf-spurensuche-mit-dem-wi
 ldbiologen
END:VEVENT
BEGIN:VTIMEZONE
TZID:Europe/Vienna
X-LIC-LOCATION:Europe/Vienna
BEGIN:STANDARD
DTSTART;VALUE=DATE-TIME:20211031T020000
TZNAME:CET
TZOFFSETFROM:+0200
TZOFFSETTO:+0100
END:STANDARD
END:VTIMEZONE
END:VCALENDAR
