BEGIN:VCALENDAR
VERSION:2.0
PRODID:-//Plone.org//NONSGML plone.app.event//EN
X-WR-TIMEZONE:Europe/Vienna
BEGIN:VEVENT
SUMMARY:Das große Krabbeln in Wald und Wiese
DTSTART;TZID=Europe/Vienna;VALUE=DATE-TIME:20200523T110000
DTEND;TZID=Europe/Vienna;VALUE=DATE-TIME:20200523T130000
DTSTAMP;VALUE=DATE-TIME:20260421T133439Z
UID:a6a0389ad5c44e2a833e38b33f3dfccf
CONTACT:Mag. Marcus Zuba\, 0676 42 60 650\, marcus.zuba@chello.at\, http:/
 /www.naturpark-jauerling.at/th_event/abenteuer-wald/
CREATED;VALUE=DATE-TIME:20180706T121738Z
DESCRIPTION:Wunder im Naturpark – trotz Corona!
LAST-MODIFIED;VALUE=DATE-TIME:20200504T065142Z
LOCATION:Naturpark Jauerling-Wachau / waldschule marcus
URL:https://www.marcuszuba.at/kalender/copy2_of_abenteuer-wald
END:VEVENT
BEGIN:VTIMEZONE
TZID:Europe/Vienna
X-LIC-LOCATION:Europe/Vienna
BEGIN:DAYLIGHT
DTSTART;VALUE=DATE-TIME:20200329T030000
TZNAME:CEST
TZOFFSETFROM:+0100
TZOFFSETTO:+0200
END:DAYLIGHT
END:VTIMEZONE
END:VCALENDAR
