BEGIN:VCALENDAR
VERSION:2.0
PRODID:-//Plone.org//NONSGML plone.app.event//EN
X-WR-TIMEZONE:Europe/Vienna
BEGIN:VEVENT
SUMMARY:Herbst im Hagenbrunner Forst 2020
DTSTART;TZID=Europe/Vienna;VALUE=DATE-TIME:20200926T100000
DTEND;TZID=Europe/Vienna;VALUE=DATE-TIME:20200926T120000
DTSTAMP;VALUE=DATE-TIME:20260421T133313Z
UID:43b80f084b484b2eb158df869ab13db3
CONTACT:Mag. Marcus B. Zuba\, 0676 42 60 650\, office@marcuszuba.at\, http
 ://www.hagenbrunn.at
CREATED;VALUE=DATE-TIME:20190317T084614Z
DESCRIPTION:Im Reich der Fliegenpilze
LAST-MODIFIED;VALUE=DATE-TIME:20200204T135110Z
LOCATION:Hagenbrunner Wald • Stützpunkt der Naturwacht • Stammersdorf
 erstraße
URL:https://www.marcuszuba.at/kalender/copy2_of_abenteuer-hagenbrunner-for
 st-2019
END:VEVENT
BEGIN:VTIMEZONE
TZID:Europe/Vienna
X-LIC-LOCATION:Europe/Vienna
BEGIN:DAYLIGHT
DTSTART;VALUE=DATE-TIME:20200329T030000
TZNAME:CEST
TZOFFSETFROM:+0100
TZOFFSETTO:+0200
END:DAYLIGHT
END:VTIMEZONE
END:VCALENDAR
