BEGIN:VCALENDAR
VERSION:2.0
PRODID:-//Plone.org//NONSGML plone.app.event//EN
X-WR-TIMEZONE:Europe/Vienna
BEGIN:VEVENT
SUMMARY:Abenteuer Wald
DTSTART;TZID=Europe/Vienna;VALUE=DATE-TIME:20210522T110000
DTEND;TZID=Europe/Vienna;VALUE=DATE-TIME:20210522T133000
DTSTAMP;VALUE=DATE-TIME:20260421T133458Z
UID:865e249d28bb4292b7d1534e74543327
CONTACT:Mag.rer.nat. Marcus Bernhard Zuba\, 06764260650\, office@marcuszub
 a.at\, http://www.naturpark-jauerling.at
CREATED;VALUE=DATE-TIME:20191029T195224Z
DESCRIPTION:Naturvermittlung der besonderen Art
LAST-MODIFIED;VALUE=DATE-TIME:20210108T160920Z
LOCATION:Naturpark Jauerling-Wachau  Treffpunkt: Parkplatz Naturparkgastha
 us • Oberndorf am Jauerling
URL:https://www.marcuszuba.at/kalender/copy11_of_auf-spurensuche-mit-dem-w
 ildbiologen
END:VEVENT
BEGIN:VTIMEZONE
TZID:Europe/Vienna
X-LIC-LOCATION:Europe/Vienna
BEGIN:DAYLIGHT
DTSTART;VALUE=DATE-TIME:20210328T030000
TZNAME:CEST
TZOFFSETFROM:+0100
TZOFFSETTO:+0200
END:DAYLIGHT
END:VTIMEZONE
END:VCALENDAR
