BEGIN:VCALENDAR
VERSION:2.0
PRODID:-//Plone.org//NONSGML plone.app.event//EN
X-WR-TIMEZONE:Europe/Vienna
BEGIN:VEVENT
SUMMARY:Marcus und der Wolf
DTSTART;TZID=Europe/Vienna;VALUE=DATE-TIME:20200606T110000
DTEND;TZID=Europe/Vienna;VALUE=DATE-TIME:20200606T130000
DTSTAMP;VALUE=DATE-TIME:20260421T132957Z
UID:1d0254cdbbef4c3184aa331e33f5c926
CONTACT:Mag.rer.nat. Marcus Bernhard Zuba\, 06764260650\, office@marcuszub
 a.at\, http://www.naturpark-jauerling.at
CREATED;VALUE=DATE-TIME:20191029T195224Z
DESCRIPTION:Waldschule Marcus im Naturpark Jauerling-Wachau
LAST-MODIFIED;VALUE=DATE-TIME:20200531T200133Z
LOCATION:Naturpark Jauerling-Wachau  Treffpunkt: Parkplatz Aussichtswarte 
 Jauerling • Oberndorf am Jauerling
URL:https://www.marcuszuba.at/aktuelles/copy4_of_auf-spurensuche-mit-dem-w
 ildbiologen
END:VEVENT
BEGIN:VTIMEZONE
TZID:Europe/Vienna
X-LIC-LOCATION:Europe/Vienna
BEGIN:DAYLIGHT
DTSTART;VALUE=DATE-TIME:20200329T030000
TZNAME:CEST
TZOFFSETFROM:+0100
TZOFFSETTO:+0200
END:DAYLIGHT
END:VTIMEZONE
END:VCALENDAR
